Workbook

Sheet Calculadora
B11: INTRODUCE TUS DATOS | E11: RESULTADO DE TÚ NÓMINA
B12: Número de trienios | C12: 0 | F12: Abonos | G12: Deducciones
B13: Complemento Voluntario Personal o Complemento Empresa | C13: 0 | E13: Sueldo reglamentario | F13: =VLOOKUP($C$17,T!$M$3:$N$10,2)*VLOOKUP(C18,T!M14:P18,2) -> 981.57929
B14: Días en oficina | C14: 0 | E14: Plus Convenio | F14: =VLOOKUP($C$17,T!$M$3:$N$10,2)*VLOOKUP(C18,T!M14:P18,3) -> 169.56357
B15: Días de teletrabajo | C15: 0 | E15: Antigüedad | F15: =VLOOKUP($C$17,T!$M$3:$N$10,2)*C12*VLOOKUP(C18,T!M14:P18,4) -> 0
B16: IRPF | C16: 0 | E16: Plus presencial | F16: =T!E7*$C$14 -> 0
B17: Jornada laboral | C17: Jornada completa | E17: Complemento teletrabajo | F17: =$C$15*T!$E$8*VLOOKUP($C$17,T!$M$3:$N$10,2) -> 0
B18: Categoría | C18: D2 | E18: CVP o Complemento Empresa | F18: =C13*VLOOKUP($C$17,T!$M$3:$N$10,2) -> 0
G19: =(SUM(F13:F16)+F18+T!S18)*T!B31 -> 22.1595 | H19: Cotización desempleo (1,65%)
G20: =(SUM(F13:F16)+F18+T!S18)*T!B32 -> 64.7326 | H20: Cotización contingencias comunes (4,82 %)
G21: =F22*C16 -> 0 | H21: IRPF
B22: SALARIO BRUTO ANUAL SIN REDUCCIÓN | E22: Total devengado (salario bruto) | F22: =SUM(F13:F18) -> 1151.1429
B23: =(VLOOKUP(C18,T!M14:R18,5)+C12*VLOOKUP(C18,T!M14:R18,6))+C13*12 -> 16116 | G23: =SUM(G19:G21) -> 86.8921 | H23: Total a deducir (IRPF Y SS)
E24: Líquido a percibir | F24: =F22-G23 -> 1064.2508
B25: SALARIO BRUTO ANUAL CON REDUCCIÓN
B26: =VLOOKUP($C$17,T!$M$23:$N$30,2)*(VLOOKUP(C18,T!M14:R18,5)+C12*VLOOKUP(C18,T!M14:R18,6))+C13*12 -> 0

Sheet T
E1: 2024 nuevo SMI | F1: 2024 | H1: 2024 nuevo SMI | I1: 2024
A2: D2 | D2: Sueldo Reglamentario anual | E2: 13742.11 | F2: 13360.17 | G2: Sueldo Reglamentario 14 pagas | H2: =E2/14 -> 981.57929 | I2: =F2/14 -> 954.29786 | J2: =H2-I2 -> 27.281429
D3: plus convenio anual | E3: 2373.89 | F3: 2307.03 | G3: plus convenio 14 pagas | H3: =E3/14 -> 169.56357 | I3: =F3/14 -> 164.78786 | J3: =H3-I3 -> 4.7757143 | L3: REDUCCIÓN | M3: Horas reducidas | N3: Coeficiente
D4: total | E4: =SUM(E2:E3) -> 16116 | F4: =SUM(F2:F3) -> 15667.2 | G4: antigüedad 14 pagas | H4: =H2*0.05 -> 49.078964 | I4: =I2*0.05 -> 47.714893 | J4: =H4-I4 -> 1.3640714 | M4: 1 hora de reducción | N4: 0.87571
D5: Antigüedad anual (por trienio) | E5: =E2*0.05 -> 687.1055 | G5: Paga extra 6 meses | H5: =SUM(H2:H3) -> 1151.1429 | I5: =SUM(I2:I3) -> 1119.0857 | M5: 1,5 horas de reducción | N5: 0.81286
M6: 2 horas de reducción | N6: 0.75001
D7: Plus presencial | E7: 11 | M7: 2,5 horas de reducción | N7: 0.698583
D8: Complemento teletrabajo | E8: 10 | M8: 3 horas de reducción | N8: 0.62572
M9: 4 horas de reducción | N9: 0.50003
A10: C3 | D10: Sueldo Reglamentario anual | E10: 13784.14 | F10: 13406.5 | G10: Sueldo Reglamentario 14 pagas | H10: =E10/14 -> 984.58143 | I10: =F10/14 -> 957.60714 | J10: =H10-I10 -> 26.974286 | M10: Jornada completa | N10: 1
D11: plus convenio anual | E11: 2491.86 | F11: 2423.9 | G11: plus convenio 14 pagas | H11: =E11/14 -> 177.99 | I11: =F11/14 -> 173.13571 | J11: =H11-I11 -> 4.8542857
D12: total | E12: =SUM(E10:E11) -> 16276 | F12: =SUM(F10:F11) -> 15830.4 | G12: antigüedad 14 pagas | H12: =H10*0.05 -> 49.229071 | I12: =I10*0.05 -> 47.880357 | J12: =H12-I12 -> 1.3487143 | T12: C2
E13: =E10*0.05 -> 689.207 | G13: Paga extra 6 meses | H13: =SUM(H10:H11) -> 1162.5714 | I13: =SUM(I10:I11) -> 1130.7429 | L13: CATEGORIA | M13: CATEGORÍA | N13: Sueldo reglamentario | O13: Plus convenio | P13: Antigüedad | Q13: Salario anual | R13: Trienio anual | S13: Prorrata
M14: C1 | N14: 1019.9714 | O14: 154.02857 | P14: 50.998571 | Q14: 16436 | R14: 713.98
D15: Plus presencial | E15: 11 | M15: C2 | N15: 998.88429 | O15: 169.40143 | P15: 49.944214 | Q15: 16356 | R15: 699.219
D16: Complemento teletrabajo | E16: 10 | M16: C3 | N16: 984.58143 | O16: 177.99 | P16: 49.229071 | Q16: 16276 | R16: 689.207
M17: D1 | N17: 986.56786 | O17: 170.28929 | P17: 49.328393 | Q17: 16196 | R17: 690.5975
A18: C2 | D18: Sueldo Reglamentario anual | E18: 13984.38 | F18: 13650.3 | G18: Sueldo Reglamentario 14 pagas | H18: =E18/14 -> 998.88429 | I18: =F18/14 -> 975.02143 | J18: =H18-I18 -> 23.862857 | M18: D2 | N18: 981.57929 | O18: 169.56357 | P18: 49.078964 | Q18: 16116 | R18: 687.1055 | S18: =SUM(Calculadora!F13:F15)/6 -> 191.85714
D19: plus convenio anual | E19: 2371.62 | F19: 2314.71 | G19: plus convenio 14 pagas | H19: =E19/14 -> 169.40143 | I19: =F19/14 -> 165.33643 | J19: =H19-I19 -> 4.065
D20: total | E20: =SUM(E18:E19) -> 16356 | F20: =SUM(F18:F19) -> 15965.01 | G20: antigüedad 14 pagas | H20: =H18*0.05 -> 49.944214 | I20: =I18*0.05 -> 48.751071 | J20: =H20-I20 -> 1.1931429
E21: =E18*0.05 -> 699.219 | G21: Paga extra 6 meses | H21: =SUM(H18:H19) -> 1168.2857 | I21: =SUM(I18:I19) -> 1140.3579
D23: Plus presencial | E23: 11 | L23: REDUCCIÓN | M23: Horas reducidas | N23: Coeficiente
D24: Complemento teletrabajo | E24: 10 | M24: 1 hora de reducción | N24: 0.87571
M25: 1,5 horas de reducción | N25: 0.81286
B26: D2 | C26: D1 | D26: C3 | E26: C2 | F26: C1 | G26: BASES DE COTIZACIÓN Y PRORRATA | M26: 2 horas de reducción | N26: 0.75001
A27: Base mensual | B27: =SUM(#REF!)+#REF! -> #REF! | C27: =SUM(#REF!)+#REF! -> #REF! | D27: =SUM(#REF!)+#REF! -> #REF! | E27: =SUM(#REF!)+#REF! -> #REF! | F27: =SUM(#REF!)+#REF! -> #REF! | M27: 2,5 horas de reducción | N27: 0.698583
A28: Prorrata | B28: =SUM(#REF!)/6 -> #REF! | C28: =SUM(#REF!)/6 -> #REF! | D28: =SUM(#REF!)/6 -> #REF! | E28: =SUM(#REF!)/6 -> #REF! | F28: =SUM(#REF!)/6 -> #REF! | M28: 3 horas de reducción | N28: 0.62572
A29: Base cotización desempleo y contingencias comunes | B29: =B27+B28 -> #REF! | C29: =C27+C28 -> #REF! | D29: =D27+D28 -> #REF! | E29: =E27+E28 -> #REF! | F29: =F27+F28 -> #REF! | M29: 4 horas de reducción | N29: 0.50003
M30: Jornada completa | N30: 0
A31: Porcentaje Cotiz. Desempleo | B31: 0.0165 | C31: 0.0165 | D31: 0.0165 | E31: 0.0165 | F31: 0.0165
A32: Porcentaje Cotiz. Contingencias | B32: 0.0482 | C32: 0.0482 | D32: 0.0482 | E32: 0.0482 | F32: 0.0482
A36: C1 | D36: Sueldo Reglamentario anual | E36: 14279.6 | F36: 14084.23 | G36: Sueldo Reglamentario 14 pagas | H36: =E36/14 -> 1019.9714 | I36: =F36/14 -> 1006.0164 | J36: =H36-I36 -> 13.955
D37: plus convenio anual | E37: 2156.4 | F37: 2127.47 | G37: plus convenio 14 pagas | H37: =E37/14 -> 154.02857 | I37: =F37/14 -> 151.96214 | J37: =H37-I37 -> 2.0664286
D38: total | E38: =SUM(E36:E37) -> 16436 | F38: =SUM(F36:F37) -> 16211.7 | G38: antigüedad 14 pagas | H38: =H36*0.05 -> 50.998571 | I38: =I36*0.05 -> 50.300821 | J38: =H38-I38 -> 0.69775
E39: =E36*0.05 -> 713.98 | G39: Paga extra 6 meses | H39: =SUM(H36:H37) -> 1174 | I39: =SUM(I36:I37) -> 1157.9786
D41: Plus presencial | E41: 11
D42: Complemento teletrabajo | E42: 10
A44: D1 | D44: Sueldo Reglamentario anual | E44: 13811.95 | F44: 13431.04 | G44: Sueldo Reglamentario 14 pagas | H44: =E44/14 -> 986.56786 | I44: =F44/14 -> 959.36
D45: plus convenio anual | E45: 2384.05 | F45: 2317.76 | G45: plus convenio 14 pagas | H45: =E45/14 -> 170.28929 | I45: =F45/14 -> 165.55429
D46: total | E46: =SUM(E44:E45) -> 16196 | F46: =SUM(F44:F45) -> 15748.8 | G46: antigüedad 14 pagas | H46: =H44*0.05 -> 49.328393 | I46: =I44*0.05 -> 47.968
E47: =E44*0.05 -> 690.5975 | G47: Paga extra 6 meses | H47: =SUM(H44:H45) -> 1156.8571 | I47: =SUM(I44:I45) -> 1124.9143
D49: Plus presencial | E49: 11
D50: Complemento teletrabajo | E50: 10
